BEGIN:VCALENDAR
VERSION:2.0
PRODID:https://www.kufer.de/kuferweb / DE
METHOD:PUBLISH
CALSCALE:GREGORIAN
X-WR-TIMEZONE:Europe/Berlin
BEGIN:VTIMEZONE
TZID:Europe/Berlin
X-LIC-LOCATION:Europe/Berlin
BEGIN:DAYLIGHT
TZOFFSETFROM:+0100
TZOFFSETTO:+0200
TZNAME:CEST
DTSTART:19700329T020000
RRULE:FREQ=YEARLY;INTERVAL=1;BYDAY=-1SU;BYMONTH=3
END:DAYLIGHT
BEGIN:STANDARD
TZOFFSETFROM:+0200
TZOFFSETTO:+0100
TZNAME:CET
DTSTART:19701025T030000
RRULE:FREQ=YEARLY;INTERVAL=1;BYDAY=-1SU;BYMONTH=10
END:STANDARD
END:VTIMEZONE
BEGIN:VEVENT
DTSTAMP:20260421T162807
DTSTART;TZID=Europe/Berlin:20260129T170000
DTEND;TZID=Europe/Berlin:20260129T183000
UID:25-55902F-20260129T170000@VHSVERL - HARSEWINKEL - SCHLOSS HOLTE-STUKENBROCK
SUMMARY:10-Finger Tastschreiben in 10 Stunden (25-55902F) 
LOCATION:Verl, Feldschule, Seminarraum III, Eichendorffstr. 77, 33415 Verl
END:VEVENT
BEGIN:VEVENT
DTSTAMP:20260421T162807
DTSTART;TZID=Europe/Berlin:20260219T170000
DTEND;TZID=Europe/Berlin:20260219T183000
UID:25-55902F-20260219T170000@VHSVERL - HARSEWINKEL - SCHLOSS HOLTE-STUKENBROCK
SUMMARY:10-Finger Tastschreiben in 10 Stunden (25-55902F) 
LOCATION:Verl, Feldschule, Seminarraum III, Eichendorffstr. 77, 33415 Verl
END:VEVENT
BEGIN:VEVENT
DTSTAMP:20260421T162807
DTSTART;TZID=Europe/Berlin:20260226T170000
DTEND;TZID=Europe/Berlin:20260226T183000
UID:25-55902F-20260226T170000@VHSVERL - HARSEWINKEL - SCHLOSS HOLTE-STUKENBROCK
SUMMARY:10-Finger Tastschreiben in 10 Stunden (25-55902F) 
LOCATION:Verl, Feldschule, Seminarraum III, Eichendorffstr. 77, 33415 Verl
END:VEVENT
BEGIN:VEVENT
DTSTAMP:20260421T162807
DTSTART;TZID=Europe/Berlin:20260305T170000
DTEND;TZID=Europe/Berlin:20260305T183000
UID:25-55902F-20260305T170000@VHSVERL - HARSEWINKEL - SCHLOSS HOLTE-STUKENBROCK
SUMMARY:10-Finger Tastschreiben in 10 Stunden (25-55902F) 
LOCATION:Verl, Feldschule, Seminarraum III, Eichendorffstr. 77, 33415 Verl
END:VEVENT
BEGIN:VEVENT
DTSTAMP:20260421T162807
DTSTART;TZID=Europe/Berlin:20260312T170000
DTEND;TZID=Europe/Berlin:20260312T183000
UID:25-55902F-20260312T170000@VHSVERL - HARSEWINKEL - SCHLOSS HOLTE-STUKENBROCK
DESCRIPTION:Ersatz für Ausfall am 05.02.2026
SUMMARY:10-Finger Tastschreiben in 10 Stunden (25-55902F) 
LOCATION:Verl, Feldschule, Seminarraum III, Eichendorffstr. 77, 33415 Verl
END:VEVENT
END:VCALENDAR