BEGIN:VCALENDAR
VERSION:2.0
PRODID:https://www.kufer.de/kuferweb / DE
METHOD:PUBLISH
CALSCALE:GREGORIAN
X-WR-TIMEZONE:Europe/Berlin
BEGIN:VTIMEZONE
TZID:Europe/Berlin
X-LIC-LOCATION:Europe/Berlin
BEGIN:DAYLIGHT
TZOFFSETFROM:+0100
TZOFFSETTO:+0200
TZNAME:CEST
DTSTART:19700329T020000
RRULE:FREQ=YEARLY;INTERVAL=1;BYDAY=-1SU;BYMONTH=3
END:DAYLIGHT
BEGIN:STANDARD
TZOFFSETFROM:+0200
TZOFFSETTO:+0100
TZNAME:CET
DTSTART:19701025T030000
RRULE:FREQ=YEARLY;INTERVAL=1;BYDAY=-1SU;BYMONTH=10
END:STANDARD
END:VTIMEZONE
BEGIN:VEVENT
DTSTAMP:20260425T130724
DTSTART;TZID=Europe/Berlin:20251027T173000
DTEND;TZID=Europe/Berlin:20251027T194500
UID:25-51101H-20251027T173000@VHSVERL - HARSEWINKEL - SCHLOSS HOLTE-STUKENBROCK
SUMMARY:Anspruchsvolle Inhalte, Bilder, Videos und Layouts einfach gestalten mit Canva (25-51101H) 
LOCATION:Verl, Feldschule, Seminarraum III, Eichendorffstr. 77, 33415 Verl
END:VEVENT
BEGIN:VEVENT
DTSTAMP:20260425T130724
DTSTART;TZID=Europe/Berlin:20251103T173000
DTEND;TZID=Europe/Berlin:20251103T194500
UID:25-51101H-20251103T173000@VHSVERL - HARSEWINKEL - SCHLOSS HOLTE-STUKENBROCK
SUMMARY:Anspruchsvolle Inhalte, Bilder, Videos und Layouts einfach gestalten mit Canva (25-51101H) 
LOCATION:Verl, Feldschule, Seminarraum III, Eichendorffstr. 77, 33415 Verl
END:VEVENT
BEGIN:VEVENT
DTSTAMP:20260425T130724
DTSTART;TZID=Europe/Berlin:20251110T173000
DTEND;TZID=Europe/Berlin:20251110T194500
UID:25-51101H-20251110T173000@VHSVERL - HARSEWINKEL - SCHLOSS HOLTE-STUKENBROCK
SUMMARY:Anspruchsvolle Inhalte, Bilder, Videos und Layouts einfach gestalten mit Canva (25-51101H) 
LOCATION:Verl, Feldschule, Seminarraum III, Eichendorffstr. 77, 33415 Verl
END:VEVENT
END:VCALENDAR